BEGIN:VCALENDAR
VERSION:2.0
PRODID:-//Wilton Chamber of Commerce - ECPv6.15.18//NONSGML v1.0//EN
CALSCALE:GREGORIAN
METHOD:PUBLISH
X-ORIGINAL-URL:https://wiltonchamber.com
X-WR-CALDESC:Events for Wilton Chamber of Commerce
REFRESH-INTERVAL;VALUE=DURATION:PT1H
X-Robots-Tag:noindex
X-PUBLISHED-TTL:PT1H
BEGIN:VTIMEZONE
TZID:America/New_York
BEGIN:DAYLIGHT
TZOFFSETFROM:-0500
TZOFFSETTO:-0400
TZNAME:EDT
DTSTART:20220313T070000
END:DAYLIGHT
BEGIN:STANDARD
TZOFFSETFROM:-0400
TZOFFSETTO:-0500
TZNAME:EST
DTSTART:20221106T060000
END:STANDARD
BEGIN:DAYLIGHT
TZOFFSETFROM:-0500
TZOFFSETTO:-0400
TZNAME:EDT
DTSTART:20230312T070000
END:DAYLIGHT
BEGIN:STANDARD
TZOFFSETFROM:-0400
TZOFFSETTO:-0500
TZNAME:EST
DTSTART:20231105T060000
END:STANDARD
BEGIN:DAYLIGHT
TZOFFSETFROM:-0500
TZOFFSETTO:-0400
TZNAME:EDT
DTSTART:20240310T070000
END:DAYLIGHT
BEGIN:STANDARD
TZOFFSETFROM:-0400
TZOFFSETTO:-0500
TZNAME:EST
DTSTART:20241103T060000
END:STANDARD
END:VTIMEZONE
BEGIN:VEVENT
DTSTART;TZID=America/New_York:20230827T100000
DTEND;TZID=America/New_York:20230827T160000
DTSTAMP:20260423T060148
CREATED:20230807T185217Z
LAST-MODIFIED:20230807T185351Z
UID:10000182-1693130400-1693152000@wiltonchamber.com
SUMMARY:Cannon Grange's Agricultural Fair
DESCRIPTION:All are invited to join the Cannon Grange‘s Agricultural Fair on Sunday Aug. 27th from 10:00 am – 4:00pm. For complete event details\, scan QR code in image or see Agricultural Fair Exposition booklet: HERE. Activities include: \n\n\n \n\n\nContests- Win a Blue Ribbon\n\n\nCraft/Artisan Vendors \n\n\nMusic\n\n\nFood vendors \n\n\nNon-profits exhibitors\n\n\nPetting zoo\n\n\nFace painting \n\n\nPerformance by The Square Bear Dance Company 1-2pm
URL:https://wiltonchamber.com/event-detail/cannon-granges-agricultural-fair/
LOCATION:Cannon Grange\, 25 Cannon Road\, Wilton\, CT\, 06897\, United States
CATEGORIES:Agricultural Fair,Community Events
ATTACH;FMTTYPE=image/jpeg:https://wiltonchamber.com/wp-content/uploads/2023/08/Cannon-Grange-Fair-2023.jpeg
END:VEVENT
END:VCALENDAR